BEGIN:VCALENDAR
VERSION:2.0
PRODID:icalendar-ruby
CALSCALE:GREGORIAN
METHOD:PUBLISH
BEGIN:VEVENT
DTSTAMP:20260422T010524Z
UID:db53f5ce-aa56-4144-9fb0-3dc55bc41c6f
DTSTART:20260703T170000
DTEND:20260704T020000
DESCRIPTION:<p><span>There are moments that don’t feel planned.</span></p
 ><p><br></p><p><span>You don’t arrive at them intentionally\, and you ca
 n’t always explain why they matter. But when they happen\, something shi
 fts. The room feels different. The music feels heavier. Time softens aroun
 d you. And for a brief moment\, everything feels aligned.</span></p><p><br
 ></p><p><span>Divine Rapture exists inside those moments.</span></p><p><br
 ></p><p><span>It begins quietly. Not with an announcement\, but with a fee
 ling. Subtle signals appear\, fragments\, textures\, patterns that don’t
  fully reveal themselves. You notice them without understanding them. A se
 nse that something is forming just beneath the surface.</span></p><p><br><
 /p><p><span>Then comes recognition.</span></p><p><br></p><p><span>Not clar
 ity\, but familiarity. Shapes begin to take form. Two faces\, built from l
 ines that resemble fingerprints\, slowly emerge. They face each other\, no
 t as mirrors\, but as something more complex. Two distinct identities draw
 n into the same space. You don’t question it. You feel it.</span></p><p>
 <br></p><p><span>As the night unfolds\, the distance between them begins t
 o close.</span></p><p><br></p><p><span>The space transforms. Red light fil
 ls the room\, deep and cinematic\, cutting through shadows and silhouettes
 . The crowd moves differently here\, connected\, intentional. Everyone arr
 ives as themselves\, dressed in black\, carrying their own expression. But
  inside\, individuality doesn’t disappear. It intensifies. It becomes pa
 rt of something larger.</span></p><p><br></p><p><span>You’re no longer o
 bserving. You’re inside it.</span></p><p><br></p><p><span>The music buil
 ds\, not just in volume\, but in emotion. Afro house and afro tech guide t
 he journey\, pulling you deeper\, while unexpected shifts in sound disrupt
  and elevate the moment. The energy doesn’t stay in one place. It moves.
  It breathes. It evolves.</span></p><p><br></p><p><span>And then\, without
  warning\, it happens.</span></p><p><br></p><p><span>Everything aligns.</s
 pan></p><p><br></p><p><span>The light\, the sound\, the movement\, the ent
 ire room converges into a single\, undeniable moment. The two faces meet\,
  if only for a second. Not merging completely\, not losing themselves\, bu
 t recognising each other in perfect balance.</span></p><p><br></p><p><span
 >This is the rapture.</span></p><p><br></p><p><span>It doesn’t last fore
 ver. It was never meant to.</span></p><p><br></p><p><span>As the night sof
 tens\, the intensity fades into something more refined. The energy settles
 \, but it doesn’t disappear. It lingers. The faces separate again\, but 
 something has changed. The moment has passed\, but the feeling remains.</s
 pan></p><p><br></p><p><span>You don’t leave with answers.</span></p><p><
 br></p><p><span>You leave with the memory of something you felt\, but can
 ’t fully explain.</span></p><p><br></p><p><span>And maybe that’s the p
 oint.</span></p><p><br></p><p><span>Because Divine Rapture isn’t somethi
 ng you understand.</span></p><p><br></p><p><span>It’s something you reco
 gnise.</span></p>
LOCATION:6 Desmond Avenue\, Kramerville\, Sandton
SUMMARY:THE DIVINE RAPTURE | 3 JULY 2026 | KATYS PALACE SANDTON
URL;VALUE=URI:https://awe.howler.co.za/rapture3july26
END:VEVENT
END:VCALENDAR
